BEGIN:VCALENDAR
VERSION:2.0
PRODID:-//Carlin Combustion Technology - ECPv6.7.1//NONSGML v1.0//EN
CALSCALE:GREGORIAN
METHOD:PUBLISH
X-ORIGINAL-URL:https://carlincombustion.com
X-WR-CALDESC:Events for Carlin Combustion Technology
REFRESH-INTERVAL;VALUE=DURATION:PT1H
X-Robots-Tag:noindex
X-PUBLISHED-TTL:PT1H
BEGIN:VTIMEZONE
TZID:America/New_York
BEGIN:DAYLIGHT
TZOFFSETFROM:-0500
TZOFFSETTO:-0400
TZNAME:EDT
DTSTART:20260308T070000
END:DAYLIGHT
BEGIN:STANDARD
TZOFFSETFROM:-0400
TZOFFSETTO:-0500
TZNAME:EST
DTSTART:20261101T060000
END:STANDARD
END:VTIMEZONE
BEGIN:VEVENT
DTSTART;TZID=America/New_York:20260507T083000
DTEND;TZID=America/New_York:20260507T153000
DTSTAMP:20260421T093204
CREATED:20260126T180249Z
LAST-MODIFIED:20260126T182152Z
UID:23083-1778142600-1778167800@carlincombustion.com
SUMMARY:Residential Gas - May 7
DESCRIPTION:This is an in-person factory class located at Carlin/Hydrolevel: 126 Bailey Road\, North Haven\, CT 06473 \nClass time is 8:30AM – 3:30PM. Continental breakfast to begin at 8AM. Breakfast and lunch are included in the cost of the class. In addition\, class will have in-class instruction along with a factory tour and hands-on training. \nInstructor: Michael Warn \nCarlin U classes will explain the following: \n\nStep-by-step breakdown of operation\, install\, and troubleshooting for burners\, primary controls\, ignitors\, and more\nHands-on demonstrations of test equipment for proper setup and diagnosis of burners\nOverview of Hydrolevel boiler controls\n\nCarlin U Residential Gas Factory Class attendees will receive the following: \n\nClass training guide that includes all relative burner installation manuals\nClass-specific giveaways\nNORA and NATE CEUs (Where Applicable)\nCarlin U Diploma
URL:https://carlincombustion.com/event/residential-gas-may-7/
LOCATION:Carlin & Hydrolevel Factory\, 126 Bailey Rd\, North Haven\, CT\, 06473\, United States
CATEGORIES:Factory Class,Residential Gas
END:VEVENT
BEGIN:VEVENT
DTSTART;TZID=America/New_York:20260513T083000
DTEND;TZID=America/New_York:20260513T153000
DTSTAMP:20260421T093204
CREATED:20251223T160845Z
LAST-MODIFIED:20251223T161248Z
UID:23020-1778661000-1778686200@carlincombustion.com
SUMMARY:PPATEC: Residential Gas - 5/13/2026
DESCRIPTION:This is an in-person road show located at PPATEC in Grantville\, PA. \nClass time is 8:30AM – 3:30PM. Continental breakfast to begin at 8AM. Breakfast and lunch are included in the cost of the class. In addition\, class will have in-class instruction along with hands-on training. \nInstructor: Tom Leonetti \nCarlin U classes will explain the following: \n\nStep-by-step breakdown of operation\, install\, and troubleshooting for burners\, primary controls\, ignitors\, and more\nHands-on demonstrations of test equipment for proper setup and diagnosis of burners\nOverview of Hydrolevel boiler controls\n\nCarlin U Residential Gas Road Show attendees will receive the following: \n\nClass training guide that includes all relative burner installation manuals\nClass-specific giveaways\nNATE CEUs (Where Applicable)\nCarlin U Diploma\n\n\n\n\n\n 
URL:https://carlincombustion.com/event/ppatec-residential-gas-5-13-2026/
LOCATION:PPATEC\, 10107 Jonestown Rd\, Grantville\, PA\, 17028\, United States
CATEGORIES:Residential Gas,Road Show
ATTACH;FMTTYPE=image/png:https://carlincombustion.com/wp-content/uploads/3-2.png
END:VEVENT
BEGIN:VEVENT
DTSTART;TZID=America/New_York:20260604T083000
DTEND;TZID=America/New_York:20260604T153000
DTSTAMP:20260421T093204
CREATED:20260126T183718Z
LAST-MODIFIED:20260126T183718Z
UID:23086-1780561800-1780587000@carlincombustion.com
SUMMARY:Residential Gas - June 4
DESCRIPTION:This is an in-person factory class located at Carlin/Hydrolevel: 126 Bailey Road\, North Haven\, CT 06473 \nClass time is 8:30AM – 3:30PM. Continental breakfast to begin at 8AM. Breakfast and lunch are included in the cost of the class. In addition\, class will have in-class instruction along with a factory tour and hands-on training. \nInstructor: Michael Warn \nCarlin U classes will explain the following: \n\nStep-by-step breakdown of operation\, install\, and troubleshooting for burners\, primary controls\, ignitors\, and more\nHands-on demonstrations of test equipment for proper setup and diagnosis of burners\nOverview of Hydrolevel boiler controls\n\nCarlin U Residential Gas Factory Class attendees will receive the following: \n\nClass training guide that includes all relative burner installation manuals\nClass-specific giveaways\nNORA and NATE CEUs (Where Applicable)\nCarlin U Diploma
URL:https://carlincombustion.com/event/residential-gas-june-4/
LOCATION:Carlin & Hydrolevel Factory\, 126 Bailey Rd\, North Haven\, CT\, 06473\, United States
CATEGORIES:Factory Class,Residential Gas
END:VEVENT
BEGIN:VEVENT
DTSTART;TZID=America/New_York:20260716T083000
DTEND;TZID=America/New_York:20260716T153000
DTSTAMP:20260421T093204
CREATED:20260126T184439Z
LAST-MODIFIED:20260126T184851Z
UID:23089-1784190600-1784215800@carlincombustion.com
SUMMARY:Residential Gas - July 16
DESCRIPTION:This is an in-person factory class located at Carlin/Hydrolevel: 126 Bailey Road\, North Haven\, CT 06473 \nClass time is 8:30AM – 3:30PM. Continental breakfast to begin at 8AM. Breakfast and lunch are included in the cost of the class. In addition\, class will have in-class instruction along with a factory tour and hands-on training. \nInstructor: Michael Warn \nCarlin U classes will explain the following: \n\nStep-by-step breakdown of operation\, install\, and troubleshooting for burners\, primary controls\, ignitors\, and more\nHands-on demonstrations of test equipment for proper setup and diagnosis of burners\nOverview of Hydrolevel boiler controls\n\nCarlin U Residential Gas Factory Class attendees will receive the following: \n\nClass training guide that includes all relative burner installation manuals\nClass-specific giveaways\nNORA and NATE CEUs (Where Applicable)\nCarlin U Diploma
URL:https://carlincombustion.com/event/residential-gas-july-16/
LOCATION:Carlin & Hydrolevel Factory\, 126 Bailey Rd\, North Haven\, CT\, 06473\, United States
CATEGORIES:Factory Class,Residential Gas
END:VEVENT
BEGIN:VEVENT
DTSTART;TZID=America/New_York:20260806T083000
DTEND;TZID=America/New_York:20260806T153000
DTSTAMP:20260421T093204
CREATED:20260126T184702Z
LAST-MODIFIED:20260126T184702Z
UID:23092-1786005000-1786030200@carlincombustion.com
SUMMARY:Residential Gas - August 6
DESCRIPTION:This is an in-person factory class located at Carlin/Hydrolevel: 126 Bailey Road\, North Haven\, CT 06473 \nClass time is 8:30AM – 3:30PM. Continental breakfast to begin at 8AM. Breakfast and lunch are included in the cost of the class. In addition\, class will have in-class instruction along with a factory tour and hands-on training. \nInstructor: Michael Warn \nCarlin U classes will explain the following: \n\nStep-by-step breakdown of operation\, install\, and troubleshooting for burners\, primary controls\, ignitors\, and more\nHands-on demonstrations of test equipment for proper setup and diagnosis of burners\nOverview of Hydrolevel boiler controls\n\nCarlin U Residential Gas Factory Class attendees will receive the following: \n\nClass training guide that includes all relative burner installation manuals\nClass-specific giveaways\nNORA and NATE CEUs (Where Applicable)\nCarlin U Diploma
URL:https://carlincombustion.com/event/residential-gas-august-6/
LOCATION:Carlin & Hydrolevel Factory\, 126 Bailey Rd\, North Haven\, CT\, 06473\, United States
CATEGORIES:Factory Class,Residential Gas
END:VEVENT
BEGIN:VEVENT
DTSTART;TZID=America/New_York:20260902T083000
DTEND;TZID=America/New_York:20260902T153000
DTSTAMP:20260421T093204
CREATED:20251223T154549Z
LAST-MODIFIED:20251223T161344Z
UID:23012-1788337800-1788363000@carlincombustion.com
SUMMARY:PPATEC: Residential Gas - 9/2/2026
DESCRIPTION:This is an in-person road show located at PPATEC in Grantville\, PA. \nClass time is 8:30AM – 3:30PM. Continental breakfast to begin at 8AM. Breakfast and lunch are included in the cost of the class. In addition\, class will have in-class instruction along with hands-on training. \nInstructor: Tom Leonetti \nCarlin U classes will explain the following: \n\nStep-by-step breakdown of operation\, install\, and troubleshooting for burners\, primary controls\, ignitors\, and more\nHands-on demonstrations of test equipment for proper setup and diagnosis of burners\nOverview of Hydrolevel boiler controls\n\nCarlin U Residential Gas Road Show attendees will receive the following: \n\nClass training guide that includes all relative burner installation manuals\nClass-specific giveaways\nNATE CEUs (Where Applicable)\nCarlin U Diploma\n\n\n\n\n\n 
URL:https://carlincombustion.com/event/ppatec-residential-gas-9-2-2026/
LOCATION:PPATEC\, 10107 Jonestown Rd\, Grantville\, PA\, 17028\, United States
CATEGORIES:Residential Gas,Road Show
ATTACH;FMTTYPE=image/png:https://carlincombustion.com/wp-content/uploads/3-2.png
END:VEVENT
BEGIN:VEVENT
DTSTART;TZID=America/New_York:20260903T083000
DTEND;TZID=America/New_York:20260903T153000
DTSTAMP:20260421T093204
CREATED:20260126T185030Z
LAST-MODIFIED:20260126T185030Z
UID:23095-1788424200-1788449400@carlincombustion.com
SUMMARY:Residential Gas - September 3
DESCRIPTION:This is an in-person factory class located at Carlin/Hydrolevel: 126 Bailey Road\, North Haven\, CT 06473 \nClass time is 8:30AM – 3:30PM. Continental breakfast to begin at 8AM. Breakfast and lunch are included in the cost of the class. In addition\, class will have in-class instruction along with a factory tour and hands-on training. \nInstructor: Michael Warn \nCarlin U classes will explain the following: \n\nStep-by-step breakdown of operation\, install\, and troubleshooting for burners\, primary controls\, ignitors\, and more\nHands-on demonstrations of test equipment for proper setup and diagnosis of burners\nOverview of Hydrolevel boiler controls\n\nCarlin U Residential Gas Factory Class attendees will receive the following: \n\nClass training guide that includes all relative burner installation manuals\nClass-specific giveaways\nNORA and NATE CEUs (Where Applicable)\nCarlin U Diploma
URL:https://carlincombustion.com/event/residential-gas-september-3/
LOCATION:Carlin & Hydrolevel Factory\, 126 Bailey Rd\, North Haven\, CT\, 06473\, United States
CATEGORIES:Factory Class,Residential Gas
END:VEVENT
BEGIN:VEVENT
DTSTART;TZID=America/New_York:20260923T083000
DTEND;TZID=America/New_York:20260923T153000
DTSTAMP:20260421T093204
CREATED:20250326T141200Z
LAST-MODIFIED:20260414T152411Z
UID:21750-1790152200-1790177400@carlincombustion.com
SUMMARY:Keystone Sales: Residential Oil & Gas
DESCRIPTION:This is an in-person road show for both residential oil and gas located at Keystone Sales in Pottstown\, PA. \nClass is on September 23\, 2026 from 8:30AM – 3:30PM. Breakfast and lunch are included in the cost of the class. Class will have in-class instruction along with hands-on training. \nInstructor: Tom Leonetti \nCarlin U classes will explain the following: \n\nStep-by-step breakdown of operation\, install\, and troubleshooting for burners\, primary controls\, ignitors\, and more\nHands-on demonstrations of test equipment for proper setup and diagnosis of burners\nOverview of Hydrolevel boiler controls\n\nCarlin U attendees will receive the following: \n\nClass training guide that includes all relative burner installation manuals\nClass-specific giveaways\nNORA and NATE CEUs (Where Applicable)\nCarlin U Diploma\n\n\n\n\n\n 
URL:https://carlincombustion.com/event/keystone-sales-residential-oil-gas/
LOCATION:Keystone Sales\, 103 Commerce Court\, Pottstown\, 19464\, United States
CATEGORIES:Residential Gas,Residential Oil,Road Show
ATTACH;FMTTYPE=image/png:https://carlincombustion.com/wp-content/uploads/4-2.png
END:VEVENT
END:VCALENDAR